{
 "documentInfo": {
  "Category": "",
  "Keywords": "",
  "Version": "2.9.0",
  "Comments": "",
  "AntialiasingMode": "None",
  "Title": "Map",
  "Author": "",
  "TextAntialiasingMode": "Force",
  "Subject": ""
 },
 "maxImageWidth": 4096,
 "wmtsScaleFactor": 0.0009186351706037901,
 "maxRecordCount": 1000,
 "tileInfo": {
  "lods": [
   {
    "level": 0,
    "scale": 2000000,
    "resolution": 1736.1145833402777
   },
   {
    "level": 1,
    "scale": 1500000,
    "resolution": 1302.0859375052082
   },
   {
    "level": 2,
    "scale": 1000000,
    "resolution": 868.05729167013885
   },
   {
    "level": 3,
    "scale": 500000,
    "resolution": 434.02864583506943
   },
   {
    "level": 4,
    "scale": 250000,
    "resolution": 217.01432291753471
   },
   {
    "level": 5,
    "scale": 125000,
    "resolution": 108.50716145876736
   },
   {
    "level": 6,
    "scale": 64000,
    "resolution": 55.555666666888889
   },
   {
    "level": 7,
    "scale": 32000,
    "resolution": 27.777833333444445
   },
   {
    "level": 8,
    "scale": 16000,
    "resolution": 13.888916666722222
   },
   {
    "level": 9,
    "scale": 8000,
    "resolution": 6.9444583333611112
   },
   {
    "level": 10,
    "scale": 4000,
    "resolution": 3.4722291666805556
   },
   {
    "level": 11,
    "scale": 2000,
    "resolution": 1.7361145833402778
   },
   {
    "level": 12,
    "scale": 1000,
    "resolution": 0.8680572916701389
   },
   {
    "level": 13,
    "scale": 750,
    "resolution": 0.65104296875260415
   },
   {
    "level": 14,
    "scale": 500,
    "resolution": 0.43402864583506945
   },
   {
    "level": 15,
    "scale": 250,
    "resolution": 0.21701432291753472
   }
  ],
  "origin": {
   "x": -115243200,
   "y": 143052500
  },
  "format": "PNG",
  "compressionQuality": 75,
  "rows": 256,
  "dpi": 96,
  "spatialReference": {
   "falseM": -100000,
   "xyTolerance": 0.0032808398950131233,
   "mUnits": 10000,
   "zUnits": 10000,
   "latestWkid": 2914,
   "zTolerance": 0.001,
   "wkid": 2914,
   "xyUnits": 37478635.547955282,
   "mTolerance": 0.001,
   "falseX": -115243200,
   "falseY": -97276400,
   "falseZ": -100000
  },
  "cols": 256
 },
 "description": "",
 "datesInUnknownTimezone": false,
 "supportsQueryDomains": true,
 "units": "esriFeet",
 "maxSelectionCount": 2000,
 "supportedImageFormatTypes": "PNG32,PNG24,PNG,JPG,DIB,TIFF,EMF,PS,PDF,GIF,SVG,SVGZ,BMP",
 "supportsClipping": true,
 "exportTilesAllowed": false,
 "maxImageHeight": 4096,
 "tables": [],
 "hasVersionedData": false,
 "supportsDatumTransformation": true,
 "cimVersion": "3.7.0",
 "supportsQueryDataElements": true,
 "layers": [
  {
   "subLayerIds": null,
   "maxScale": 0,
   "name": "HistoricAerial1977",
   "defaultVisibility": true,
   "id": 0,
   "minScale": 0,
   "supportsDynamicLegends": true,
   "type": "Raster Layer",
   "parentLayerId": -1
  }
 ],
 "mapName": "Layers",
 "minScale": 2000000,
 "archivingInfo": {
  "supportsHistoricMoment": false
 },
 "spatialReference": {
  "falseM": -100000,
  "xyTolerance": 0.0032808398950131233,
  "mUnits": 10000,
  "zUnits": 10000,
  "latestWkid": 2914,
  "zTolerance": 0.001,
  "wkid": 2914,
  "xyUnits": 3048,
  "mTolerance": 0.001,
  "falseX": -115243200,
  "falseY": -97276400,
  "falseZ": -100000
 },
 "tileImageInfo": {
  "bandCount": 1,
  "lercError": 0,
  "format": "PNG",
  "compressionQuality": 75
 },
 "fullExtent": {
  "ymin": 849218.65822483029,
  "xmin": 4202702.7709973752,
  "ymax": 915228.57742782799,
  "xmax": 4259354.4241483733,
  "spatialReference": {
   "falseM": -100000,
   "xyTolerance": 0.0032808398950131233,
   "mUnits": 10000,
   "zUnits": 10000,
   "latestWkid": 2914,
   "zTolerance": 0.001,
   "wkid": 2914,
   "xyUnits": 3048,
   "mTolerance": 0.001,
   "falseX": -115243200,
   "falseY": -97276400,
   "falseZ": -100000
  }
 },
 "supportedExtensions": "",
 "capabilities": "Map,Query,Data",
 "supportsDynamicLayers": true,
 "maxScale": 500,
 "singleFusedMapCache": true,
 "currentVersion": 12.1,
 "storageInfo": {
  "storageFormat": "esriMapCacheStorageModeCompactV2",
  "packetSize": 128
 },
 "resampling": false,
 "hasBranchVersionedData": false,
 "mapUnits": {
  "uwkid": 9002
 },
 "referenceScale": 0,
 "supportsSpatialFilter": true,
 "supportedQueryFormats": "JSON, geoJSON, PBF",
 "datumTransformations": [
  {
   "geoTransforms": [
    {
     "latestWkid": 1580,
     "transformForward": false,
     "wkid": 1580,
     "name": "NAD_1983_HARN_To_WGS_1984"
    }
   ]
  },
  {
   "geoTransforms": [
    {
     "latestWkid": 1580,
     "transformForward": true,
     "wkid": 1580,
     "name": "NAD_1983_HARN_To_WGS_1984"
    }
   ]
  }
 ],
 "initialExtent": {
  "ymin": 850698.44971123768,
  "xmin": 4185632.6839705459,
  "ymax": 914516.63331569836,
  "xmax": 4286945.132840585,
  "spatialReference": {
   "falseM": -100000,
   "xyTolerance": 0.0032808398950131233,
   "mUnits": 10000,
   "zUnits": 10000,
   "latestWkid": 2914,
   "zTolerance": 0.001,
   "wkid": 2914,
   "xyUnits": 3048,
   "mTolerance": 0.001,
   "falseX": -115243200,
   "falseY": -97276400,
   "falseZ": -100000
  }
 },
 "serviceDescription": "",
 "copyrightText": "",
 "supportsTimeRelation": true
}
